BEGIN:VCALENDAR
PRODID:-//Mozilla.org/NONSGML Mozilla Calendar V1.1//EN
VERSION:2.0
CALSCALE:GREGORIAN
BEGIN:VEVENT
DTSTAMP:20260419T123731Z
DTSTART:20260420T060000
DTEND:20260420T063000
SUMMARY:2014 MERCEDES BENZ AXOR 
LOCATION:http://www.copart.com.br:80
DESCRIPTION:Please join us for the following auction:\n\n2014 MERCEDES BE
 NZ AXOR \nwww.copart.com.br\n\n\n\nContact us at member.services@copart.
 com or (972) 391-5400 if you have any questions leading up to the auctio
 n.\n\n\n-Your Copart Team
UID:20260419T123731Z-uidGen@lvpbaw213.corp.copart.com
END:VEVENT
END:VCALENDAR
